BEGIN:VCALENDAR
VERSION:2.0
PRODID:-//PS153 Parents Association - ECPv6.15.17.1//NONSGML v1.0//EN
CALSCALE:GREGORIAN
METHOD:PUBLISH
X-ORIGINAL-URL:https://ps153pa.org
X-WR-CALDESC:Events for PS153 Parents Association
REFRESH-INTERVAL;VALUE=DURATION:PT1H
X-Robots-Tag:noindex
X-PUBLISHED-TTL:PT1H
BEGIN:VTIMEZONE
TZID:America/New_York
BEGIN:DAYLIGHT
TZOFFSETFROM:-0500
TZOFFSETTO:-0400
TZNAME:EDT
DTSTART:20230312T070000
END:DAYLIGHT
BEGIN:STANDARD
TZOFFSETFROM:-0400
TZOFFSETTO:-0500
TZNAME:EST
DTSTART:20231105T060000
END:STANDARD
BEGIN:DAYLIGHT
TZOFFSETFROM:-0500
TZOFFSETTO:-0400
TZNAME:EDT
DTSTART:20240310T070000
END:DAYLIGHT
BEGIN:STANDARD
TZOFFSETFROM:-0400
TZOFFSETTO:-0500
TZNAME:EST
DTSTART:20241103T060000
END:STANDARD
BEGIN:DAYLIGHT
TZOFFSETFROM:-0500
TZOFFSETTO:-0400
TZNAME:EDT
DTSTART:20250309T070000
END:DAYLIGHT
BEGIN:STANDARD
TZOFFSETFROM:-0400
TZOFFSETTO:-0500
TZNAME:EST
DTSTART:20251102T060000
END:STANDARD
BEGIN:DAYLIGHT
TZOFFSETFROM:-0500
TZOFFSETTO:-0400
TZNAME:EDT
DTSTART:20260308T070000
END:DAYLIGHT
BEGIN:STANDARD
TZOFFSETFROM:-0400
TZOFFSETTO:-0500
TZNAME:EST
DTSTART:20261101T060000
END:STANDARD
END:VTIMEZONE
BEGIN:VEVENT
DTSTART;VALUE=DATE:20241202
DTEND;VALUE=DATE:20241221
DTSTAMP:20260419T090325
CREATED:20241120T014228Z
LAST-MODIFIED:20241120T014251Z
UID:3029-1733097600-1734739199@ps153pa.org
SUMMARY:School Uniform Recycling Program
DESCRIPTION:
URL:https://ps153pa.org/event/school-uniform-recycling-program/
LOCATION:PS 153 Adam Clayton Powell School\, 1750 Amsterdam Ave\, New York\, NY\, 1031\, United States
CATEGORIES:PA Event
END:VEVENT
BEGIN:VEVENT
DTSTART;VALUE=DATE:20241209
DTEND;VALUE=DATE:20241214
DTSTAMP:20260419T090325
CREATED:20241120T013209Z
LAST-MODIFIED:20241203T020704Z
UID:3027-1733702400-1734134399@ps153pa.org
SUMMARY:Scholastic Book Fair
DESCRIPTION:It’s Book Fair Time!\n\nThis year we’re creating a special holiday themed book fair event with Scholastic! Just in time for the holidays\, celebrate reading with the PS153 Parents Association (PA) by coming to the PS 153 Holiday Book Fair. \nThe fair will run from December 9th – 13th\, with special events set-up each day for students and families. \nRaffle!\nWe will also be a holding a Book Fair Raffle for each classroom. Tickets are only $1 and limited to 1 ticket per student. Each class will have its own drawing at the end of the fair and the book will be given to the winners at the end of the school day on Friday\, December 13th. \nStudents can purchase books with cash or from their eWallet balance during the school day. Parents may use their credit cards to purchase books during our special events. \nA portion of all purchases are used to support the PA budget and our year long programming. \nImportant: sales tax will be added to all purchases. \n\n\n\n\n			\n		\n			\n			Letter From The Principal		\n			\n	\n\n\n \neWallet\n\nStudents can make purchases using cash or their eWallet balance. The eWallet is funded by family and friends and redeemable during the fair. It’s a cash-free and worry-free way to allow students to shop the book fair. \n \n\n\n\n\n			\n		\n			\n			eWallet Sign-up		\n			\n	\n\n\n \nSpecial Events\n\nWe have special events each day of the book fair. No purchases are required to join. See below to learn more about them: \nMonday: Virtual Book Fair – 6pm\nFamilies can join a special Zoom virtual book fair and browse the fair virtually with one of our volunteers. Once you’re done\, payments can be made via the eWallet and the books given to your children the next day. \nTuesday: Craft Time – Make Your Own Bookmark – 5pm\nJoin in the fun of making your own mark – bookmark\, that is! Don’t lose your place again in your favorite book *while supplies last \nThursday: Family Reading Time – 4pm\nRelax with a parent\, aunt/uncle\, sibling\, grandpa/grandma\, or a friend\, and read some stories together. All are welcome! \n\n\n\n\nThursday: Family Storytime Event  – 5pm\nJoin a Storytime family event for the whole family! Hear a story together \n\n\n\n\n \n\n\n\n\n			\n		\n			\n			See All Events		\n			\n	\n\n\n \nVolunteer With Us\n\nWe need your help to make the book fair a success. Parent volunteers can help students shop during the school day or help out during our special events. If you’re interested in helping\, let us know by filling out the form below. Thank you! \n \n\n\n\n\n\n\n\n\n							\n													\n								Browse Brochure
URL:https://ps153pa.org/event/scholastic-book-fair/
LOCATION:PS 153 Adam Clayton Powell School\, 1750 Amsterdam Ave\, New York\, NY\, 1031\, United States
CATEGORIES:PA Event
END:VEVENT
BEGIN:VEVENT
DTSTART;TZID=America/New_York:20241209T180000
DTEND;TZID=America/New_York:20241209T184500
DTSTAMP:20260419T090325
CREATED:20241203T014958Z
LAST-MODIFIED:20241203T020855Z
UID:3041-1733767200-1733769900@ps153pa.org
SUMMARY:Virtual Book Fair
DESCRIPTION:Can’t make it in person\, but still want to shop the fair? \nFamilies can join a special Zoom virtual book fair and browse the fair virtually with one of our volunteers. Once you’re done\, payments can be made via the eWallet and the books given to your children the next day. \n \n\n\n\n\n\n\n\n\n \nStep 1\n\n\nSet-up your eWallet prior to joining the virtual fair. \n \n\n\n\n\n\n			\n		\n			\n			eWallet Set-up		\n			\n	\n\n\n\n\n \nStep 2\n\n\nJoin us on Zoom when the event starts. \n \n \n\n\n\n\n\n			\n		\n			\n			Zoom Link
URL:https://ps153pa.org/event/virtual-book-fair-2/
LOCATION:PS153 Zoom
CATEGORIES:PA Event
END:VEVENT
BEGIN:VEVENT
DTSTART;TZID=America/New_York:20241210T170000
DTEND;TZID=America/New_York:20241210T180000
DTSTAMP:20260419T090325
CREATED:20241203T015624Z
LAST-MODIFIED:20241203T020845Z
UID:3043-1733850000-1733853600@ps153pa.org
SUMMARY:Craft Time - Make Your Own Bookmark
DESCRIPTION:Join in the fun of making your own mark – bookmark\, that is! Don’t lose your place again in your favorite book \n*while supplies last
URL:https://ps153pa.org/event/craft-time-make-your-own-bookmark/
LOCATION:PS 153 Adam Clayton Powell School\, 1750 Amsterdam Ave\, New York\, NY\, 1031\, United States
CATEGORIES:PA Event
END:VEVENT
BEGIN:VEVENT
DTSTART;TZID=America/New_York:20241010T033000
DTEND;TZID=America/New_York:20241010T163000
DTSTAMP:20260419T090325
CREATED:20241021T013558Z
LAST-MODIFIED:20241021T013558Z
UID:2887-1728531000-1728577800@ps153pa.org
SUMMARY:SLT Meeting
DESCRIPTION:Join Zoom Meeting\nhttps://zoom.us/j/91217408112?pwd=9kfxbRIh3A3GzicS5Q1BWOOkqEbeMW.1\n\nMeeting ID: 912 1740 8112\nPasscode: 098460\n\n—\n\nOne tap mobile\n+16465588656\,\,91217408112#\,\,\,\,*098460# US (New York)\n+16469313860\,\,91217408112#\,\,\,\,*098460# US\n\n—\n\nDial by your location\n• +1 646 558 8656 US (New York)\n• +1 646 931 3860 US\n• +1 301 715 8592 US (Washington DC)\n• +1 305 224 1968 US\n• +1 309 205 3325 US\n• +1 312 626 6799 US (Chicago)\n• +1 507 473 4847 US\n• +1 564 217 2000 US\n• +1 669 444 9171 US\n• +1 669 900 9128 US (San Jose)\n• +1 689 278 1000 US\n• +1 719 359 4580 US\n• +1 253 205 0468 US\n• +1 253 215 8782 US (Tacoma)\n• +1 346 248 7799 US (Houston)\n• +1 360 209 5623 US\n• +1 386 347 5053 US\n\nMeeting ID: 912 1740 8112\nPasscode: 098460\n\nFind your local number: https://zoom.us/u/acLXBnxMfx
URL:https://ps153pa.org/event/slt-meeting/
LOCATION:PS 153 Adam Clayton Powell School\, 1750 Amsterdam Ave\, New York\, NY\, 1031\, United States
CATEGORIES:School Calendar
END:VEVENT
BEGIN:VEVENT
DTSTART;TZID=America/New_York:20241212T160000
DTEND;TZID=America/New_York:20241212T170000
DTSTAMP:20260419T090325
CREATED:20240411T190737Z
LAST-MODIFIED:20241203T020806Z
UID:1976-1734019200-1734022800@ps153pa.org
SUMMARY:Family Reading Time
DESCRIPTION:Relax with a parent\, aunt/uncle\, sibling\, grandpa/grandma\, or a friend\, and read some stories together. All are welcome.
URL:https://ps153pa.org/event/family-reading-time/
LOCATION:PS 153 Adam Clayton Powell School\, 1750 Amsterdam Ave\, New York\, NY\, 1031\, United States
CATEGORIES:PA Event
END:VEVENT
BEGIN:VEVENT
DTSTART;TZID=America/New_York:20241212T170000
DTEND;TZID=America/New_York:20241212T170000
DTSTAMP:20260419T090325
CREATED:20241203T020221Z
LAST-MODIFIED:20241203T020221Z
UID:3046-1734022800-1734022800@ps153pa.org
SUMMARY:Family Storytime
DESCRIPTION:Join a Storytime family event for the whole family! Hear a story together \n\n\n\n\n 
URL:https://ps153pa.org/event/family-storytime/
LOCATION:PS 153 Adam Clayton Powell School\, 1750 Amsterdam Ave\, New York\, NY\, 1031\, United States
CATEGORIES:PA Event
END:VEVENT
BEGIN:VEVENT
DTSTART;TZID=America/New_York:20241220T173000
DTEND;TZID=America/New_York:20241220T183000
DTSTAMP:20260419T090325
CREATED:20240831T013514Z
LAST-MODIFIED:20250321T213235Z
UID:2628-1734715800-1734719400@ps153pa.org
SUMMARY:Monthly Meeting
DESCRIPTION:Details to be shared. \nZoom Link: https://zoom.us/meeting/register/tJcscOGprD0jHt3gAaWlXG-aHkTTUULNCrUf
URL:https://ps153pa.org/event/monthly-meeting/
LOCATION:PS 153 Adam Clayton Powell School\, 1750 Amsterdam Ave\, New York\, NY\, 1031\, United States
CATEGORIES:PS153 Parents Meeting
END:VEVENT
BEGIN:VEVENT
DTSTART;VALUE=DATE:20241224
DTEND;VALUE=DATE:20250102
DTSTAMP:20260419T090325
CREATED:20241021T014644Z
LAST-MODIFIED:20241021T014644Z
UID:2898-1734998400-1735775999@ps153pa.org
SUMMARY:Winter Recess\, schools closed
DESCRIPTION:
URL:https://ps153pa.org/event/winter-recess-schools-closed-2/
LOCATION:PS 153 Adam Clayton Powell School\, 1750 Amsterdam Ave\, New York\, NY\, 1031\, United States
CATEGORIES:School Calendar
END:VEVENT
END:VCALENDAR