BEGIN:VCALENDAR
VERSION:2.0
PRODID:-//PS153 Parents Association - ECPv6.15.17.1//NONSGML v1.0//EN
CALSCALE:GREGORIAN
METHOD:PUBLISH
X-ORIGINAL-URL:https://ps153pa.org
X-WR-CALDESC:Events for PS153 Parents Association
REFRESH-INTERVAL;VALUE=DURATION:PT1H
X-Robots-Tag:noindex
X-PUBLISHED-TTL:PT1H
BEGIN:VTIMEZONE
TZID:America/New_York
BEGIN:DAYLIGHT
TZOFFSETFROM:-0500
TZOFFSETTO:-0400
TZNAME:EDT
DTSTART:20240310T070000
END:DAYLIGHT
BEGIN:STANDARD
TZOFFSETFROM:-0400
TZOFFSETTO:-0500
TZNAME:EST
DTSTART:20241103T060000
END:STANDARD
BEGIN:DAYLIGHT
TZOFFSETFROM:-0500
TZOFFSETTO:-0400
TZNAME:EDT
DTSTART:20250309T070000
END:DAYLIGHT
BEGIN:STANDARD
TZOFFSETFROM:-0400
TZOFFSETTO:-0500
TZNAME:EST
DTSTART:20251102T060000
END:STANDARD
BEGIN:DAYLIGHT
TZOFFSETFROM:-0500
TZOFFSETTO:-0400
TZNAME:EDT
DTSTART:20260308T070000
END:DAYLIGHT
BEGIN:STANDARD
TZOFFSETFROM:-0400
TZOFFSETTO:-0500
TZNAME:EST
DTSTART:20261101T060000
END:STANDARD
BEGIN:DAYLIGHT
TZOFFSETFROM:-0500
TZOFFSETTO:-0400
TZNAME:EDT
DTSTART:20270314T070000
END:DAYLIGHT
BEGIN:STANDARD
TZOFFSETFROM:-0400
TZOFFSETTO:-0500
TZNAME:EST
DTSTART:20271107T060000
END:STANDARD
END:VTIMEZONE
BEGIN:VEVENT
DTSTART;TZID=America/New_York:20250904T000000
DTEND;TZID=America/New_York:20250904T235959
DTSTAMP:20260419T232254
CREATED:20250920T143723Z
LAST-MODIFIED:20250920T150257Z
UID:3248-1756944000-1757030399@ps153pa.org
SUMMARY:First day of school
DESCRIPTION:First day of school
URL:https://ps153pa.org/event/first-day-of-school-2/
LOCATION:PS 153 Adam Clayton Powell School\, 1750 Amsterdam Ave\, New York\, NY\, 1031\, United States
CATEGORIES:PS153 Parents Meeting,School Calendar
END:VEVENT
BEGIN:VEVENT
DTSTART;TZID=America/New_York:20250919T173000
DTEND;TZID=America/New_York:20250919T183000
DTSTAMP:20260419T232254
CREATED:20250914T201833Z
LAST-MODIFIED:20250919T190727Z
UID:3223-1758303000-1758306600@ps153pa.org
SUMMARY:September Meeting
DESCRIPTION:Learn more about the PS153 Parent’s Association and join us for the first meeting of the school year! \nWe’ll be meeting at the Book Nook in person and online on Google Meet. \nAll are welcome in person\, families and children. \nMeeting Resources: \n\nBy-Laws Proposal\n2025-2026 PA Budget – 9_19_2025\n\nRSVP to JoinLet us know you're planning to join us by RSVP'ing below:Please enable JavaScript in your browser to complete this form.Please enable JavaScript in your browser to complete this form.Name *FirstLastEmail *Are you interested in volunteering with the PA?Yes\, please contact me!RSVP
URL:https://ps153pa.org/event/september-meeting/
LOCATION:PS 153 Adam Clayton Powell School\, 1750 Amsterdam Ave\, New York\, NY\, 1031\, United States
CATEGORIES:PS153 Parents Meeting
END:VEVENT
BEGIN:VEVENT
DTSTART;TZID=America/New_York:20251017T173000
DTEND;TZID=America/New_York:20251017T181500
DTSTAMP:20260419T232254
CREATED:20250920T141405Z
LAST-MODIFIED:20251015T011724Z
UID:3244-1760722200-1760724900@ps153pa.org
SUMMARY:October Meeting
DESCRIPTION:Welcome to PS153 PA Meeting! \nMinutes Approval \nPresident’s Report \n\nFall bookfair moved to January with Word Up bookstore\n\nTreasurer’s Report: Current balance: $8\,587.51 \nPA Programs – volunteers needed! \n\nPicture Day: Make-up/Sibling day: 10/23/25\nElection Day Bake Sale: 11/04/25\nUno! & Bing Game Night: 11/10/25\n\nSecretary’s Report \n\nwww.ps153pa.org updated with school and community events\nDial-A-Teacher homework help: (212) 777-3380\nStudent Privacy Information\nClases de Inglés para Adultos\nParticipatory Budget: October – November brainstorm.\nChancellor Town Hall: 10/21 6:30-7:30pm PS48.\n\nNext Meeting: 11/21/25 at 5:30pm
URL:https://ps153pa.org/event/october-meeting/
LOCATION:PS 153 Adam Clayton Powell School\, 1750 Amsterdam Ave\, New York\, NY\, 1031\, United States
CATEGORIES:PS153 Parents Meeting
ATTACH;FMTTYPE=image/jpeg:https://ps153pa.org/wp-content/uploads/2025/09/2025-10-Meeting-Flyer_1.jpg
END:VEVENT
BEGIN:VEVENT
DTSTART;TZID=America/New_York:20251121T173000
DTEND;TZID=America/New_York:20251121T183000
DTSTAMP:20260419T232254
CREATED:20251121T212307Z
LAST-MODIFIED:20251121T213416Z
UID:3586-1763746200-1763749800@ps153pa.org
SUMMARY:November Meeting
DESCRIPTION:Join online: https://meet.google.com/xzi-kubf-oab \nWelcome to PS153 PA Meeting \nMinutes Approval \nPresident’s Report \n\nLearn to Swim classes resumed with Riverbank State Park for 4th & 5th grade classes\nFall bookfair moved to January with Word Up bookstore\nTitle 1 report – Parent Advisory Council (PAC)\n\n$3\,267 for this year’s budget\n\n\n\nTreasurer’s Report: Current balance: $16\,850.97 \nPA Programs – volunteers needed! \n\nWinter Concession Stand: Wed 12/17 – 8am\n\nSecretary’s Report \n\nScheduled programming:\n\nPuppet show: March 11\nImprov group: May 18\nBreakding dance classes: 10 weeks\, starting January\n\n\nwww.ps153pa.org updated with school and community events\nDial-A-Teacher homework help: (212) 777-3380\nClases de Inglés para Adultos\nParticipatory Budget: Submit ideas online\nCEC6 Legislative Breakfast: 12/12/25\n\nNext Meeting: 12/19/25 at 5:30pm
URL:https://ps153pa.org/event/november-meeting/
LOCATION:PS 153 Adam Clayton Powell School\, 1750 Amsterdam Ave\, New York\, NY\, 1031\, United States
CATEGORIES:PS153 Parents Meeting
ATTACH;FMTTYPE=image/jpeg:https://ps153pa.org/wp-content/uploads/2025/11/2025-11-Meeting-Flyer_1.jpg
END:VEVENT
BEGIN:VEVENT
DTSTART;TZID=America/New_York:20260116T173000
DTEND;TZID=America/New_York:20260116T183000
DTSTAMP:20260419T232254
CREATED:20260112T024550Z
LAST-MODIFIED:20260112T024550Z
UID:3597-1768584600-1768588200@ps153pa.org
SUMMARY:Monthly Meeting
DESCRIPTION:Join us online: https://meet.google.com/mtr-qszy-zot
URL:https://ps153pa.org/event/monthly-meeting-9/
LOCATION:PS 153 Adam Clayton Powell School\, 1750 Amsterdam Ave\, New York\, NY\, 1031\, United States
CATEGORIES:PS153 Parents Meeting
END:VEVENT
END:VCALENDAR