BEGIN:VCALENDAR
VERSION:2.0
PRODID:-//PS153 Parents Association - ECPv6.15.17.1//NONSGML v1.0//EN
CALSCALE:GREGORIAN
METHOD:PUBLISH
X-WR-CALNAME:PS153 Parents Association
X-ORIGINAL-URL:https://ps153pa.org
X-WR-CALDESC:Events for PS153 Parents Association
REFRESH-INTERVAL;VALUE=DURATION:PT1H
X-Robots-Tag:noindex
X-PUBLISHED-TTL:PT1H
BEGIN:VTIMEZONE
TZID:America/New_York
BEGIN:DAYLIGHT
TZOFFSETFROM:-0500
TZOFFSETTO:-0400
TZNAME:EDT
DTSTART:20230312T070000
END:DAYLIGHT
BEGIN:STANDARD
TZOFFSETFROM:-0400
TZOFFSETTO:-0500
TZNAME:EST
DTSTART:20231105T060000
END:STANDARD
BEGIN:DAYLIGHT
TZOFFSETFROM:-0500
TZOFFSETTO:-0400
TZNAME:EDT
DTSTART:20240310T070000
END:DAYLIGHT
BEGIN:STANDARD
TZOFFSETFROM:-0400
TZOFFSETTO:-0500
TZNAME:EST
DTSTART:20241103T060000
END:STANDARD
BEGIN:DAYLIGHT
TZOFFSETFROM:-0500
TZOFFSETTO:-0400
TZNAME:EDT
DTSTART:20250309T070000
END:DAYLIGHT
BEGIN:STANDARD
TZOFFSETFROM:-0400
TZOFFSETTO:-0500
TZNAME:EST
DTSTART:20251102T060000
END:STANDARD
END:VTIMEZONE
BEGIN:VEVENT
DTSTART;TZID=America/New_York:20240516T153000
DTEND;TZID=America/New_York:20240516T163000
DTSTAMP:20260423T174453
CREATED:20231030T191854Z
LAST-MODIFIED:20231030T191854Z
UID:1486-1715873400-1715877000@ps153pa.org
SUMMARY:SLT Meeting
DESCRIPTION:Join Zoom Meeting\nhttps://zoom.us/j/94574652128?pwd=cENqblpHaGpXL3hsVGVXcCtPSXlEUT09\n\nMeeting ID: 945 7465 2128\nPasscode: 060237\n\n—\n\nOne tap mobile\n+16465588656\,\,94574652128#\,\,\,\,*060237# US (New York)\n+16469313860\,\,94574652128#\,\,\,\,*060237# US\n\n—\n\nDial by your location\n• +1 646 558 8656 US (New York)\n• +1 646 931 3860 US\n• +1 301 715 8592 US (Washington DC)\n• +1 305 224 1968 US\n• +1 309 205 3325 US\n• +1 312 626 6799 US (Chicago)\n• +1 253 205 0468 US\n• +1 253 215 8782 US (Tacoma)\n• +1 346 248 7799 US (Houston)\n• +1 360 209 5623 US\n• +1 386 347 5053 US\n• +1 507 473 4847 US\n• +1 564 217 2000 US\n• +1 669 444 9171 US\n• +1 669 900 9128 US (San Jose)\n• +1 689 278 1000 US\n• +1 719 359 4580 US\n\nMeeting ID: 945 7465 2128\nPasscode: 060237\n\nFind your local number: https://zoom.us/u/alLeF7S2c
URL:https://ps153pa.org/event/slt-meeting-9/
LOCATION:SLT Zoom
CATEGORIES:PS153 Parents Meeting
END:VEVENT
BEGIN:VEVENT
DTSTART;TZID=America/New_York:20240516T173000
DTEND;TZID=America/New_York:20240516T180000
DTSTAMP:20260423T174453
CREATED:20231030T193912Z
LAST-MODIFIED:20231030T193912Z
UID:1522-1715880600-1715882400@ps153pa.org
SUMMARY:May Parents Meeting (In-Person Only)
DESCRIPTION:Join Our PA Election Meeting\,\nand have a chance to win a $25 gift card! \nAll Parents and Children are Welcome! \nDuring this meeting\, the PA will be holding elections for the upcoming board\, SLT\, and Title 1 rep. Per the Chancellor’s By-Law A-660\, hybrid election meetings are not permitted\, and this election meeting will be held in person. \nA quorum of 6+ parents is required for the election to take place. Please attend to help the PA achieve quorum! \nThursday May 16th\, 2024 at 5:30pm (in person only) \n\nIn Person: PS153\nZoom: Not available\, in-person election meeting\n\nAgenda Highlights: \n\nElection of PA President\, Secretary\, Treasurer\nElection of SLT Members (7 vacancies)\nElection of Title 1 Representative\nScholastic fair recap\nParent workout start\nUpcoming events\n\nSupporting Materials: \n\nMarch Minutes (TBA)\nParent’s Forum Special Meeting Minutes (TBA)\nApril Minutes (TBA)\n\nRSVP Below:
URL:https://ps153pa.org/event/pa-monthly-parents-meeting-8/
LOCATION:PS 153 Adam Clayton Powell School\, 1750 Amsterdam Ave\, New York\, NY\, 1031\, United States
CATEGORIES:PS153 Parents Meeting
END:VEVENT
END:VCALENDAR