BEGIN:VCALENDAR
VERSION:2.0
PRODID:-//PS153 Parents Association - ECPv6.15.17.1//NONSGML v1.0//EN
CALSCALE:GREGORIAN
METHOD:PUBLISH
X-WR-CALNAME:PS153 Parents Association
X-ORIGINAL-URL:https://ps153pa.org
X-WR-CALDESC:Events for PS153 Parents Association
REFRESH-INTERVAL;VALUE=DURATION:PT1H
X-Robots-Tag:noindex
X-PUBLISHED-TTL:PT1H
BEGIN:VTIMEZONE
TZID:America/New_York
BEGIN:DAYLIGHT
TZOFFSETFROM:-0500
TZOFFSETTO:-0400
TZNAME:EDT
DTSTART:20250309T070000
END:DAYLIGHT
BEGIN:STANDARD
TZOFFSETFROM:-0400
TZOFFSETTO:-0500
TZNAME:EST
DTSTART:20251102T060000
END:STANDARD
BEGIN:DAYLIGHT
TZOFFSETFROM:-0500
TZOFFSETTO:-0400
TZNAME:EDT
DTSTART:20260308T070000
END:DAYLIGHT
BEGIN:STANDARD
TZOFFSETFROM:-0400
TZOFFSETTO:-0500
TZNAME:EST
DTSTART:20261101T060000
END:STANDARD
BEGIN:DAYLIGHT
TZOFFSETFROM:-0500
TZOFFSETTO:-0400
TZNAME:EDT
DTSTART:20270314T070000
END:DAYLIGHT
BEGIN:STANDARD
TZOFFSETFROM:-0400
TZOFFSETTO:-0500
TZNAME:EST
DTSTART:20271107T060000
END:STANDARD
END:VTIMEZONE
BEGIN:VEVENT
DTSTART;TZID=America/New_York:20260511T083000
DTEND;TZID=America/New_York:20260511T093000
DTSTAMP:20260423T160411
CREATED:20260316T003912Z
LAST-MODIFIED:20260323T011620Z
UID:3634-1778488200-1778491800@ps153pa.org
SUMMARY:Meet the Farmer: Farm-to-Table Experience
DESCRIPTION:Can't make it in person\, but still want to shop the fair? \nFamilies can join a special Zoom virtual book fair and browse the fair virtually with one of our volunteers. Once you’re done\, payments can be made via the eWallet and the books given to your children the next day. \n \n\nStep 1\n\n	\nSet-up your eWallet prior to joining the virtual fair. \n \n\n\n\n			\n		\n			\n			eWallet Set-up		\n			\n	\nStep 2\n\n	\nJoin us on Zoom when the event starts. \n \n \n\n\n\n			\n		\n			\n			Zoom Link
URL:https://ps153pa.org/event/meet-the-farmer-farm-to-table-experience/
LOCATION:PS 153 Adam Clayton Powell School\, 1750 Amsterdam Ave\, New York\, NY\, 1031\, United States
CATEGORIES:PA Event
END:VEVENT
END:VCALENDAR