BEGIN:VCALENDAR
VERSION:2.0
PRODID:-//PS153 Parents Association - ECPv6.15.17.1//NONSGML v1.0//EN
CALSCALE:GREGORIAN
METHOD:PUBLISH
X-WR-CALNAME:PS153 Parents Association
X-ORIGINAL-URL:https://ps153pa.org
X-WR-CALDESC:Events for PS153 Parents Association
REFRESH-INTERVAL;VALUE=DURATION:PT1H
X-Robots-Tag:noindex
X-PUBLISHED-TTL:PT1H
BEGIN:VTIMEZONE
TZID:America/New_York
BEGIN:DAYLIGHT
TZOFFSETFROM:-0500
TZOFFSETTO:-0400
TZNAME:EDT
DTSTART:20240310T070000
END:DAYLIGHT
BEGIN:STANDARD
TZOFFSETFROM:-0400
TZOFFSETTO:-0500
TZNAME:EST
DTSTART:20241103T060000
END:STANDARD
BEGIN:DAYLIGHT
TZOFFSETFROM:-0500
TZOFFSETTO:-0400
TZNAME:EDT
DTSTART:20250309T070000
END:DAYLIGHT
BEGIN:STANDARD
TZOFFSETFROM:-0400
TZOFFSETTO:-0500
TZNAME:EST
DTSTART:20251102T060000
END:STANDARD
BEGIN:DAYLIGHT
TZOFFSETFROM:-0500
TZOFFSETTO:-0400
TZNAME:EDT
DTSTART:20260308T070000
END:DAYLIGHT
BEGIN:STANDARD
TZOFFSETFROM:-0400
TZOFFSETTO:-0500
TZNAME:EST
DTSTART:20261101T060000
END:STANDARD
BEGIN:DAYLIGHT
TZOFFSETFROM:-0500
TZOFFSETTO:-0400
TZNAME:EDT
DTSTART:20270314T070000
END:DAYLIGHT
BEGIN:STANDARD
TZOFFSETFROM:-0400
TZOFFSETTO:-0500
TZNAME:EST
DTSTART:20271107T060000
END:STANDARD
END:VTIMEZONE
BEGIN:VEVENT
DTSTART;VALUE=DATE:20250214
DTEND;VALUE=DATE:20250215
DTSTAMP:20260425T223337
CREATED:20250206T023158Z
LAST-MODIFIED:20250206T024435Z
UID:3067-1739491200-1739577599@ps153pa.org
SUMMARY:Valentine’s Day Sale!
DESCRIPTION:Can't make it in person\, but still want to shop the fair? \nFamilies can join a special Zoom virtual book fair and browse the fair virtually with one of our volunteers. Once you’re done\, payments can be made via the eWallet and the books given to your children the next day. \n \n\nStep 1\n\n	\nSet-up your eWallet prior to joining the virtual fair. \n \n\n\n\n			\n		\n			\n			eWallet Set-up		\n			\n	\nStep 2\n\n	\nJoin us on Zoom when the event starts. \n \n \n\n\n\n			\n		\n			\n			Zoom Link
URL:https://ps153pa.org/event/valentines-day-sale-2/
LOCATION:PS 153 Adam Clayton Powell School\, 1750 Amsterdam Ave\, New York\, NY\, 1031\, United States
CATEGORIES:PA Event
ATTACH;FMTTYPE=image/jpeg:https://ps153pa.org/wp-content/uploads/2025/02/Valentines-Day-Fundraiser-Flyer-25.jpg
END:VEVENT
BEGIN:VEVENT
DTSTART;TZID=America/New_York:20250301T090000
DTEND;TZID=America/New_York:20250301T100000
DTSTAMP:20260425T223337
CREATED:20250208T164845Z
LAST-MODIFIED:20250301T134230Z
UID:3074-1740819600-1740823200@ps153pa.org
SUMMARY:Parents Only (Hybrid) Workshop: Homework Without Tears
DESCRIPTION:Can't make it in person\, but still want to shop the fair? \nFamilies can join a special Zoom virtual book fair and browse the fair virtually with one of our volunteers. Once you’re done\, payments can be made via the eWallet and the books given to your children the next day. \n \n\nStep 1\n\n	\nSet-up your eWallet prior to joining the virtual fair. \n \n\n\n\n			\n		\n			\n			eWallet Set-up		\n			\n	\nStep 2\n\n	\nJoin us on Zoom when the event starts. \n \n \n\n\n\n			\n		\n			\n			Zoom Link
URL:https://ps153pa.org/event/parents-only-workshop-homework-without-tears/
LOCATION:PS 153 Adam Clayton Powell School\, 1750 Amsterdam Ave\, New York\, NY\, 1031\, United States
CATEGORIES:PA Event
END:VEVENT
BEGIN:VEVENT
DTSTART;TZID=America/New_York:20250308T103000
DTEND;TZID=America/New_York:20250308T113000
DTSTAMP:20260425T223337
CREATED:20250208T171918Z
LAST-MODIFIED:20250223T204641Z
UID:3089-1741429800-1741433400@ps153pa.org
SUMMARY:Family Theater: Stay Loose\, How To Improvise!
DESCRIPTION:Can't make it in person\, but still want to shop the fair? \nFamilies can join a special Zoom virtual book fair and browse the fair virtually with one of our volunteers. Once you’re done\, payments can be made via the eWallet and the books given to your children the next day. \n \n\nStep 1\n\n	\nSet-up your eWallet prior to joining the virtual fair. \n \n\n\n\n			\n		\n			\n			eWallet Set-up		\n			\n	\nStep 2\n\n	\nJoin us on Zoom when the event starts. \n \n \n\n\n\n			\n		\n			\n			Zoom Link
URL:https://ps153pa.org/event/family-theater-stay-loose-how-to-improvise/
LOCATION:PS 153 Adam Clayton Powell School\, 1750 Amsterdam Ave\, New York\, NY\, 1031\, United States
CATEGORIES:PA Event
END:VEVENT
BEGIN:VEVENT
DTSTART;TZID=America/New_York:20250315T090000
DTEND;TZID=America/New_York:20250315T100000
DTSTAMP:20260425T223337
CREATED:20250208T171317Z
LAST-MODIFIED:20250223T205130Z
UID:3086-1742029200-1742032800@ps153pa.org
SUMMARY:Parents Only (Hybrid) Workshop: Improving your Child's Study Skills
DESCRIPTION:Can't make it in person\, but still want to shop the fair? \nFamilies can join a special Zoom virtual book fair and browse the fair virtually with one of our volunteers. Once you’re done\, payments can be made via the eWallet and the books given to your children the next day. \n \n\nStep 1\n\n	\nSet-up your eWallet prior to joining the virtual fair. \n \n\n\n\n			\n		\n			\n			eWallet Set-up		\n			\n	\nStep 2\n\n	\nJoin us on Zoom when the event starts. \n \n \n\n\n\n			\n		\n			\n			Zoom Link
URL:https://ps153pa.org/event/parents-only-workshop-improving-your-childs-study-skills/
LOCATION:PS 153 Adam Clayton Powell School\, 1750 Amsterdam Ave\, New York\, NY\, 1031\, United States
CATEGORIES:PA Event
END:VEVENT
BEGIN:VEVENT
DTSTART;TZID=America/New_York:20250322T093000
DTEND;TZID=America/New_York:20250322T120000
DTSTAMP:20260425T223337
CREATED:20250208T171648Z
LAST-MODIFIED:20250223T201659Z
UID:3088-1742635800-1742644800@ps153pa.org
SUMMARY:Family Cooking Class: Learn A New Family Recipe Together
DESCRIPTION:Can't make it in person\, but still want to shop the fair? \nFamilies can join a special Zoom virtual book fair and browse the fair virtually with one of our volunteers. Once you’re done\, payments can be made via the eWallet and the books given to your children the next day. \n \n\nStep 1\n\n	\nSet-up your eWallet prior to joining the virtual fair. \n \n\n\n\n			\n		\n			\n			eWallet Set-up		\n			\n	\nStep 2\n\n	\nJoin us on Zoom when the event starts. \n \n \n\n\n\n			\n		\n			\n			Zoom Link
URL:https://ps153pa.org/event/family-cooking-class-learn-a-new-family-recipe-together/
LOCATION:PS 153 Adam Clayton Powell School\, 1750 Amsterdam Ave\, New York\, NY\, 1031\, United States
CATEGORIES:PA Event
END:VEVENT
BEGIN:VEVENT
DTSTART;TZID=America/New_York:20250329T090000
DTEND;TZID=America/New_York:20250329T100000
DTSTAMP:20260425T223337
CREATED:20250208T171459Z
LAST-MODIFIED:20250223T205146Z
UID:3087-1743238800-1743242400@ps153pa.org
SUMMARY:Family (Hybrid) Workshop: Practice What We Learned with Intensati
DESCRIPTION:Can't make it in person\, but still want to shop the fair? \nFamilies can join a special Zoom virtual book fair and browse the fair virtually with one of our volunteers. Once you’re done\, payments can be made via the eWallet and the books given to your children the next day. \n \n\nStep 1\n\n	\nSet-up your eWallet prior to joining the virtual fair. \n \n\n\n\n			\n		\n			\n			eWallet Set-up		\n			\n	\nStep 2\n\n	\nJoin us on Zoom when the event starts. \n \n \n\n\n\n			\n		\n			\n			Zoom Link
URL:https://ps153pa.org/event/parents-only-workshop-parent-support/
LOCATION:PS 153 Adam Clayton Powell School\, 1750 Amsterdam Ave\, New York\, NY\, 1031\, United States
CATEGORIES:PA Event
END:VEVENT
BEGIN:VEVENT
DTSTART;VALUE=DATE:20250520
DTEND;VALUE=DATE:20250524
DTSTAMP:20260425T223337
CREATED:20250518T132234Z
LAST-MODIFIED:20250518T133212Z
UID:3144-1747699200-1748044799@ps153pa.org
SUMMARY:Scholastic Book Fair Spring 2025
DESCRIPTION:Can't make it in person\, but still want to shop the fair? \nFamilies can join a special Zoom virtual book fair and browse the fair virtually with one of our volunteers. Once you’re done\, payments can be made via the eWallet and the books given to your children the next day. \n \n\nStep 1\n\n	\nSet-up your eWallet prior to joining the virtual fair. \n \n\n\n\n			\n		\n			\n			eWallet Set-up		\n			\n	\nStep 2\n\n	\nJoin us on Zoom when the event starts. \n \n \n\n\n\n			\n		\n			\n			Zoom Link
URL:https://ps153pa.org/event/scholastic-book-fair-spring-2025/
LOCATION:PS 153 Adam Clayton Powell School\, 1750 Amsterdam Ave\, New York\, NY\, 1031\, United States
CATEGORIES:PA Event
END:VEVENT
BEGIN:VEVENT
DTSTART;TZID=America/New_York:20250917T173000
DTEND;TZID=America/New_York:20250917T180000
DTSTAMP:20260425T223337
CREATED:20250914T224049Z
LAST-MODIFIED:20250914T224049Z
UID:3238-1758130200-1758132000@ps153pa.org
SUMMARY:Parent's Night
DESCRIPTION:Can't make it in person\, but still want to shop the fair? \nFamilies can join a special Zoom virtual book fair and browse the fair virtually with one of our volunteers. Once you’re done\, payments can be made via the eWallet and the books given to your children the next day. \n \n\nStep 1\n\n	\nSet-up your eWallet prior to joining the virtual fair. \n \n\n\n\n			\n		\n			\n			eWallet Set-up		\n			\n	\nStep 2\n\n	\nJoin us on Zoom when the event starts. \n \n \n\n\n\n			\n		\n			\n			Zoom Link
URL:https://ps153pa.org/event/parents-night/
LOCATION:PS 153 Adam Clayton Powell School\, 1750 Amsterdam Ave\, New York\, NY\, 1031\, United States
CATEGORIES:PA Event
END:VEVENT
BEGIN:VEVENT
DTSTART;TZID=America/New_York:20251016T000000
DTEND;TZID=America/New_York:20251016T235959
DTSTAMP:20260425T223337
CREATED:20251005T234028Z
LAST-MODIFIED:20251007T022256Z
UID:3357-1760572800-1760659199@ps153pa.org
SUMMARY:Picture Day 2025
DESCRIPTION:Can't make it in person\, but still want to shop the fair? \nFamilies can join a special Zoom virtual book fair and browse the fair virtually with one of our volunteers. Once you’re done\, payments can be made via the eWallet and the books given to your children the next day. \n \n\nStep 1\n\n	\nSet-up your eWallet prior to joining the virtual fair. \n \n\n\n\n			\n		\n			\n			eWallet Set-up		\n			\n	\nStep 2\n\n	\nJoin us on Zoom when the event starts. \n \n \n\n\n\n			\n		\n			\n			Zoom Link
URL:https://ps153pa.org/event/picture-day-2025/
LOCATION:PS 153 Adam Clayton Powell School\, 1750 Amsterdam Ave\, New York\, NY\, 1031\, United States
CATEGORIES:PA Event
ATTACH;FMTTYPE=image/jpeg:https://ps153pa.org/wp-content/uploads/2025/10/OCTOBER-16-POSTER-1.jpg
END:VEVENT
BEGIN:VEVENT
DTSTART;TZID=America/New_York:20251023T000000
DTEND;TZID=America/New_York:20251023T235959
DTSTAMP:20260425T223337
CREATED:20251005T234132Z
LAST-MODIFIED:20251007T022602Z
UID:3363-1761177600-1761263999@ps153pa.org
SUMMARY:Sibling + Make-up Picture Day 2025
DESCRIPTION:Can't make it in person\, but still want to shop the fair? \nFamilies can join a special Zoom virtual book fair and browse the fair virtually with one of our volunteers. Once you’re done\, payments can be made via the eWallet and the books given to your children the next day. \n \n\nStep 1\n\n	\nSet-up your eWallet prior to joining the virtual fair. \n \n\n\n\n			\n		\n			\n			eWallet Set-up		\n			\n	\nStep 2\n\n	\nJoin us on Zoom when the event starts. \n \n \n\n\n\n			\n		\n			\n			Zoom Link
URL:https://ps153pa.org/event/sibling-make-up-picture-day-2025/
LOCATION:PS 153 Adam Clayton Powell School\, 1750 Amsterdam Ave\, New York\, NY\, 1031\, United States
CATEGORIES:PA Event
ATTACH;FMTTYPE=image/jpeg:https://ps153pa.org/wp-content/uploads/2025/10/SIBLINGS-POSTER-ENGLISH-1.jpg
END:VEVENT
BEGIN:VEVENT
DTSTART;TZID=America/New_York:20251104T080000
DTEND;TZID=America/New_York:20251104T170000
DTSTAMP:20260425T223337
CREATED:20251023T002320Z
LAST-MODIFIED:20251028T000437Z
UID:3560-1762243200-1762275600@ps153pa.org
SUMMARY:2025 Election Day Bake Sale
DESCRIPTION:Can't make it in person\, but still want to shop the fair? \nFamilies can join a special Zoom virtual book fair and browse the fair virtually with one of our volunteers. Once you’re done\, payments can be made via the eWallet and the books given to your children the next day. \n \n\nStep 1\n\n	\nSet-up your eWallet prior to joining the virtual fair. \n \n\n\n\n			\n		\n			\n			eWallet Set-up		\n			\n	\nStep 2\n\n	\nJoin us on Zoom when the event starts. \n \n \n\n\n\n			\n		\n			\n			Zoom Link
URL:https://ps153pa.org/event/2025-election-day-bake-sale/
LOCATION:PS 153 Adam Clayton Powell School\, 1750 Amsterdam Ave\, New York\, NY\, 1031\, United States
CATEGORIES:PA Event
ATTACH;FMTTYPE=image/jpeg:https://ps153pa.org/wp-content/uploads/2025/10/bake-sale.jpg
END:VEVENT
BEGIN:VEVENT
DTSTART;TZID=America/New_York:20251110T170000
DTEND;TZID=America/New_York:20251110T183000
DTSTAMP:20260425T223337
CREATED:20251023T004047Z
LAST-MODIFIED:20251023T004047Z
UID:3564-1762794000-1762799400@ps153pa.org
SUMMARY:Uno! & Bingo Game Night
DESCRIPTION:Can't make it in person\, but still want to shop the fair? \nFamilies can join a special Zoom virtual book fair and browse the fair virtually with one of our volunteers. Once you’re done\, payments can be made via the eWallet and the books given to your children the next day. \n \n\nStep 1\n\n	\nSet-up your eWallet prior to joining the virtual fair. \n \n\n\n\n			\n		\n			\n			eWallet Set-up		\n			\n	\nStep 2\n\n	\nJoin us on Zoom when the event starts. \n \n \n\n\n\n			\n		\n			\n			Zoom Link
URL:https://ps153pa.org/event/uno-bingo-game-night/
LOCATION:PS 153 Adam Clayton Powell School\, 1750 Amsterdam Ave\, New York\, NY\, 1031\, United States
CATEGORIES:PA Event
ATTACH;FMTTYPE=image/jpeg:https://ps153pa.org/wp-content/uploads/2025/10/2025-11-10-Game-Night-Flyer1.jpg
END:VEVENT
BEGIN:VEVENT
DTSTART;TZID=America/New_York:20260327T173000
DTEND;TZID=America/New_York:20260327T183000
DTSTAMP:20260425T223337
CREATED:20260316T003525Z
LAST-MODIFIED:20260323T011651Z
UID:3630-1774632600-1774636200@ps153pa.org
SUMMARY:Anger Management for Children (and Parents)
DESCRIPTION:Can't make it in person\, but still want to shop the fair? \nFamilies can join a special Zoom virtual book fair and browse the fair virtually with one of our volunteers. Once you’re done\, payments can be made via the eWallet and the books given to your children the next day. \n \n\nStep 1\n\n	\nSet-up your eWallet prior to joining the virtual fair. \n \n\n\n\n			\n		\n			\n			eWallet Set-up		\n			\n	\nStep 2\n\n	\nJoin us on Zoom when the event starts. \n \n \n\n\n\n			\n		\n			\n			Zoom Link
URL:https://ps153pa.org/event/anger-management-for-children-and-parents/
LOCATION:PS 153 Adam Clayton Powell School\, 1750 Amsterdam Ave\, New York\, NY\, 1031\, United States
CATEGORIES:PA Event
END:VEVENT
BEGIN:VEVENT
DTSTART;TZID=America/New_York:20260420T083000
DTEND;TZID=America/New_York:20260420T093000
DTSTAMP:20260425T223337
CREATED:20260323T010311Z
LAST-MODIFIED:20260323T011706Z
UID:3642-1776673800-1776677400@ps153pa.org
SUMMARY:Unplug to Reconnect: Healthy Screen Time Limits
DESCRIPTION:Can't make it in person\, but still want to shop the fair? \nFamilies can join a special Zoom virtual book fair and browse the fair virtually with one of our volunteers. Once you’re done\, payments can be made via the eWallet and the books given to your children the next day. \n \n\nStep 1\n\n	\nSet-up your eWallet prior to joining the virtual fair. \n \n\n\n\n			\n		\n			\n			eWallet Set-up		\n			\n	\nStep 2\n\n	\nJoin us on Zoom when the event starts. \n \n \n\n\n\n			\n		\n			\n			Zoom Link
URL:https://ps153pa.org/event/unplug-to-reconnect-healthy-screen-time-limits/
LOCATION:PS 153 Adam Clayton Powell School\, 1750 Amsterdam Ave\, New York\, NY\, 1031\, United States
CATEGORIES:PA Event
END:VEVENT
BEGIN:VEVENT
DTSTART;TZID=America/New_York:20260504T080000
DTEND;TZID=America/New_York:20260508T170000
DTSTAMP:20260425T223337
CREATED:20250920T152709Z
LAST-MODIFIED:20250920T152709Z
UID:3306-1777881600-1778259600@ps153pa.org
SUMMARY:Teacher Appreciation Week
DESCRIPTION:Can't make it in person\, but still want to shop the fair? \nFamilies can join a special Zoom virtual book fair and browse the fair virtually with one of our volunteers. Once you’re done\, payments can be made via the eWallet and the books given to your children the next day. \n \n\nStep 1\n\n	\nSet-up your eWallet prior to joining the virtual fair. \n \n\n\n\n			\n		\n			\n			eWallet Set-up		\n			\n	\nStep 2\n\n	\nJoin us on Zoom when the event starts. \n \n \n\n\n\n			\n		\n			\n			Zoom Link
URL:https://ps153pa.org/event/teacher-appreciation-week/
LOCATION:PS 153 Adam Clayton Powell School\, 1750 Amsterdam Ave\, New York\, NY\, 1031\, United States
CATEGORIES:PA Event
END:VEVENT
BEGIN:VEVENT
DTSTART;TZID=America/New_York:20260511T083000
DTEND;TZID=America/New_York:20260511T093000
DTSTAMP:20260425T223337
CREATED:20260316T003912Z
LAST-MODIFIED:20260323T011620Z
UID:3634-1778488200-1778491800@ps153pa.org
SUMMARY:Meet the Farmer: Farm-to-Table Experience
DESCRIPTION:Can't make it in person\, but still want to shop the fair? \nFamilies can join a special Zoom virtual book fair and browse the fair virtually with one of our volunteers. Once you’re done\, payments can be made via the eWallet and the books given to your children the next day. \n \n\nStep 1\n\n	\nSet-up your eWallet prior to joining the virtual fair. \n \n\n\n\n			\n		\n			\n			eWallet Set-up		\n			\n	\nStep 2\n\n	\nJoin us on Zoom when the event starts. \n \n \n\n\n\n			\n		\n			\n			Zoom Link
URL:https://ps153pa.org/event/meet-the-farmer-farm-to-table-experience/
LOCATION:PS 153 Adam Clayton Powell School\, 1750 Amsterdam Ave\, New York\, NY\, 1031\, United States
CATEGORIES:PA Event
END:VEVENT
END:VCALENDAR