BEGIN:VCALENDAR
VERSION:2.0
PRODID:-//PS153 Parents Association - ECPv6.15.17.1//NONSGML v1.0//EN
CALSCALE:GREGORIAN
METHOD:PUBLISH
X-WR-CALNAME:PS153 Parents Association
X-ORIGINAL-URL:https://ps153pa.org
X-WR-CALDESC:Events for PS153 Parents Association
REFRESH-INTERVAL;VALUE=DURATION:PT1H
X-Robots-Tag:noindex
X-PUBLISHED-TTL:PT1H
BEGIN:VTIMEZONE
TZID:America/New_York
BEGIN:DAYLIGHT
TZOFFSETFROM:-0500
TZOFFSETTO:-0400
TZNAME:EDT
DTSTART:20230312T070000
END:DAYLIGHT
BEGIN:STANDARD
TZOFFSETFROM:-0400
TZOFFSETTO:-0500
TZNAME:EST
DTSTART:20231105T060000
END:STANDARD
BEGIN:DAYLIGHT
TZOFFSETFROM:-0500
TZOFFSETTO:-0400
TZNAME:EDT
DTSTART:20240310T070000
END:DAYLIGHT
BEGIN:STANDARD
TZOFFSETFROM:-0400
TZOFFSETTO:-0500
TZNAME:EST
DTSTART:20241103T060000
END:STANDARD
BEGIN:DAYLIGHT
TZOFFSETFROM:-0500
TZOFFSETTO:-0400
TZNAME:EDT
DTSTART:20250309T070000
END:DAYLIGHT
BEGIN:STANDARD
TZOFFSETFROM:-0400
TZOFFSETTO:-0500
TZNAME:EST
DTSTART:20251102T060000
END:STANDARD
END:VTIMEZONE
BEGIN:VEVENT
DTSTART;TZID=America/New_York:20241122T170000
DTEND;TZID=America/New_York:20241122T183000
DTSTAMP:20260421T032114
CREATED:20241115T142740Z
LAST-MODIFIED:20241115T143224Z
UID:3006-1732294800-1732300200@ps153pa.org
SUMMARY:November Family Game Night
DESCRIPTION:PS153 PA’s Family Game Night – PS153 Cafeteria\n \nWe’ll be hosting sessions on how to play UNO! and have an tournament to see who’s the best UNO! players! Winners will receive prizes at the end of the night. \nPlease note that this is a family event and all children must be accompanied by parents and parents are encouraged to play alongside their children. \nFor younger children\, we’ll have some interactive games for them to play with as well. \nAt the end of the night\, join us for a family BINGO game. \nParents are encouraged to volunteer as chaperones and help provide snacks for the event.Please contact the PA if you’re interested in assisting. \nThe PA will be providing freshly popped popcorn.
URL:https://ps153pa.org/event/november-family-game-night/
LOCATION:PS 153 Adam Clayton Powell School\, 1750 Amsterdam Ave\, New York\, NY\, 1031\, United States
CATEGORIES:PA Event
ATTACH;FMTTYPE=image/jpeg:https://ps153pa.org/wp-content/uploads/2024/11/2024-11-22-Game-Night-Flyer.jpg
END:VEVENT
END:VCALENDAR