BEGIN:VCALENDAR
VERSION:2.0
PRODID:-//PS153 Parents Association - ECPv6.15.17.1//NONSGML v1.0//EN
CALSCALE:GREGORIAN
METHOD:PUBLISH
X-ORIGINAL-URL:https://ps153pa.org
X-WR-CALDESC:Events for PS153 Parents Association
REFRESH-INTERVAL;VALUE=DURATION:PT1H
X-Robots-Tag:noindex
X-PUBLISHED-TTL:PT1H
BEGIN:VTIMEZONE
TZID:America/New_York
BEGIN:DAYLIGHT
TZOFFSETFROM:-0500
TZOFFSETTO:-0400
TZNAME:EDT
DTSTART:20230312T070000
END:DAYLIGHT
BEGIN:STANDARD
TZOFFSETFROM:-0400
TZOFFSETTO:-0500
TZNAME:EST
DTSTART:20231105T060000
END:STANDARD
BEGIN:DAYLIGHT
TZOFFSETFROM:-0500
TZOFFSETTO:-0400
TZNAME:EDT
DTSTART:20240310T070000
END:DAYLIGHT
BEGIN:STANDARD
TZOFFSETFROM:-0400
TZOFFSETTO:-0500
TZNAME:EST
DTSTART:20241103T060000
END:STANDARD
BEGIN:DAYLIGHT
TZOFFSETFROM:-0500
TZOFFSETTO:-0400
TZNAME:EDT
DTSTART:20250309T070000
END:DAYLIGHT
BEGIN:STANDARD
TZOFFSETFROM:-0400
TZOFFSETTO:-0500
TZNAME:EST
DTSTART:20251102T060000
END:STANDARD
END:VTIMEZONE
BEGIN:VEVENT
DTSTART;TZID=America/New_York:20240202T170000
DTEND;TZID=America/New_York:20240202T183000
DTSTAMP:20260425T160327
CREATED:20240122T212805Z
LAST-MODIFIED:20240122T212805Z
UID:1799-1706893200-1706898600@ps153pa.org
SUMMARY:Game Night
DESCRIPTION:Join the PA for a Game Night with board games\, card games\, and bingo! We’ll be at the Book Nook\, and all families are welcome. There will be popcorn snacks and gift card prizes for winners.
URL:https://ps153pa.org/event/game-night/
LOCATION:PS 153 Adam Clayton Powell School\, 1750 Amsterdam Ave\, New York\, NY\, 1031\, United States
CATEGORIES:PA Event
END:VEVENT
END:VCALENDAR