BEGIN:VCALENDAR
VERSION:2.0
PRODID:-//PS153 Parents Association - ECPv6.15.17.1//NONSGML v1.0//EN
CALSCALE:GREGORIAN
METHOD:PUBLISH
X-WR-CALNAME:PS153 Parents Association
X-ORIGINAL-URL:https://ps153pa.org
X-WR-CALDESC:Events for PS153 Parents Association
REFRESH-INTERVAL;VALUE=DURATION:PT1H
X-Robots-Tag:noindex
X-PUBLISHED-TTL:PT1H
BEGIN:VTIMEZONE
TZID:America/New_York
BEGIN:DAYLIGHT
TZOFFSETFROM:-0500
TZOFFSETTO:-0400
TZNAME:EDT
DTSTART:20230312T070000
END:DAYLIGHT
BEGIN:STANDARD
TZOFFSETFROM:-0400
TZOFFSETTO:-0500
TZNAME:EST
DTSTART:20231105T060000
END:STANDARD
BEGIN:DAYLIGHT
TZOFFSETFROM:-0500
TZOFFSETTO:-0400
TZNAME:EDT
DTSTART:20240310T070000
END:DAYLIGHT
BEGIN:STANDARD
TZOFFSETFROM:-0400
TZOFFSETTO:-0500
TZNAME:EST
DTSTART:20241103T060000
END:STANDARD
BEGIN:DAYLIGHT
TZOFFSETFROM:-0500
TZOFFSETTO:-0400
TZNAME:EDT
DTSTART:20250309T070000
END:DAYLIGHT
BEGIN:STANDARD
TZOFFSETFROM:-0400
TZOFFSETTO:-0500
TZNAME:EST
DTSTART:20251102T060000
END:STANDARD
END:VTIMEZONE
BEGIN:VEVENT
DTSTART;TZID=America/New_York:20240404T073000
DTEND;TZID=America/New_York:20240404T083000
DTSTAMP:20260425T115724
CREATED:20231128T211633Z
LAST-MODIFIED:20231128T211633Z
UID:1665-1712215800-1712219400@ps153pa.org
SUMMARY:Principal Coffee Hour
DESCRIPTION:Get a free cup of coffee and meet with Principal Matos during our PA sponsored Principal Coffee Hour. \nEvery 1st Thursday of the month\, drop by the PS153 Book Nook from 7:30-8:30am for your coffee and a group discussion between Principal Matos and PS153 parents. \nNote: This is an informal event where parents can casually arrive late or leave early and have a chance to ask questions\, comment on issues\, or have a friendly conversion with everyone over a cup of coffee.
URL:https://ps153pa.org/event/principal-coffee-hour-5/
LOCATION:PS 153 Adam Clayton Powell School\, 1750 Amsterdam Ave\, New York\, NY\, 1031\, United States
CATEGORIES:PA Event
END:VEVENT
BEGIN:VEVENT
DTSTART;TZID=America/New_York:20240416T180000
DTEND;TZID=America/New_York:20240416T184500
DTSTAMP:20260425T115724
CREATED:20240409T111917Z
LAST-MODIFIED:20240409T111917Z
UID:1953-1713290400-1713293100@ps153pa.org
SUMMARY:Virtual Book Fair
DESCRIPTION:Can’t make it in person\, but still want to shop the fair? \nFamilies can join a special Zoom virtual book fair and browse the fair virtually with one of our volunteers. Once you’re done\, payments can be made via the eWallet and the books given to your children the next day. \n \n\n\n\n\n\n\n\n\n \nStep 1\n\nSet-up your eWallet prior to joining the virtual fair. \n \n\n\n\n\n			\n		\n			\n			eWallet Set-up		\n			\n	\n\n\n\n\n \nStep 2\n\nJoin us on Zoom when the event starts. \n \n \n\n\n\n\n			\n		\n			\n			Zoom Link
URL:https://ps153pa.org/event/virtual-book-fair/
LOCATION:PS153 Zoom
CATEGORIES:PA Event
END:VEVENT
BEGIN:VEVENT
DTSTART;TZID=America/New_York:20240417T142000
DTEND;TZID=America/New_York:20240417T170000
DTSTAMP:20260425T115724
CREATED:20240411T190323Z
LAST-MODIFIED:20240411T190323Z
UID:1974-1713363600-1713373200@ps153pa.org
SUMMARY:Story & Craft Time
DESCRIPTION:Stop by the Book Nook after pick-up for a special afternoon with crafts inspired by the books from the fair. Also join our special story times and book discussion afterwards at: 2:30pm and 3:40pm. \nCraft materials will be provided as supplies last. \n 
URL:https://ps153pa.org/event/story-craft-time/
LOCATION:PS 153 Adam Clayton Powell School\, 1750 Amsterdam Ave\, New York\, NY\, 1031\, United States
CATEGORIES:PA Event
END:VEVENT
BEGIN:VEVENT
DTSTART;TZID=America/New_York:20240418T180000
DTEND;TZID=America/New_York:20240418T190000
DTSTAMP:20260425T115724
CREATED:20240411T191431Z
LAST-MODIFIED:20240411T191431Z
UID:1978-1713463200-1713466800@ps153pa.org
SUMMARY:Family Event with the Illustrator of The Sour Grape
DESCRIPTION:Join Pete Oswald\, the Illustrator of The Sour Grape\, for a live virtual event where students learn how to draw a character from the story\, and ask questions from the book. \nPlease note that while Pete will be joining virtually\, we will be gathering in person at the Book Nook for the event. \nSnacks and craft will be provided.
URL:https://ps153pa.org/event/family-event-with-the-illustrator-of-the-sour-grape/
LOCATION:PS 153 Adam Clayton Powell School\, 1750 Amsterdam Ave\, New York\, NY\, 1031\, United States
CATEGORIES:PA Event
END:VEVENT
END:VCALENDAR