BEGIN:VCALENDAR
VERSION:2.0
PRODID:-//PS153 Parents Association - ECPv6.15.17.1//NONSGML v1.0//EN
CALSCALE:GREGORIAN
METHOD:PUBLISH
X-ORIGINAL-URL:https://ps153pa.org
X-WR-CALDESC:Events for PS153 Parents Association
REFRESH-INTERVAL;VALUE=DURATION:PT1H
X-Robots-Tag:noindex
X-PUBLISHED-TTL:PT1H
BEGIN:VTIMEZONE
TZID:America/New_York
BEGIN:DAYLIGHT
TZOFFSETFROM:-0500
TZOFFSETTO:-0400
TZNAME:EDT
DTSTART:20230312T070000
END:DAYLIGHT
BEGIN:STANDARD
TZOFFSETFROM:-0400
TZOFFSETTO:-0500
TZNAME:EST
DTSTART:20231105T060000
END:STANDARD
BEGIN:DAYLIGHT
TZOFFSETFROM:-0500
TZOFFSETTO:-0400
TZNAME:EDT
DTSTART:20240310T070000
END:DAYLIGHT
BEGIN:STANDARD
TZOFFSETFROM:-0400
TZOFFSETTO:-0500
TZNAME:EST
DTSTART:20241103T060000
END:STANDARD
BEGIN:DAYLIGHT
TZOFFSETFROM:-0500
TZOFFSETTO:-0400
TZNAME:EDT
DTSTART:20250309T070000
END:DAYLIGHT
BEGIN:STANDARD
TZOFFSETFROM:-0400
TZOFFSETTO:-0500
TZNAME:EST
DTSTART:20251102T060000
END:STANDARD
END:VTIMEZONE
BEGIN:VEVENT
DTSTART;TZID=America/New_York:20240104T073000
DTEND;TZID=America/New_York:20240104T083000
DTSTAMP:20260425T195708
CREATED:20231128T211446Z
LAST-MODIFIED:20231128T211446Z
UID:1662-1704353400-1704357000@ps153pa.org
SUMMARY:Principal Coffee Hour
DESCRIPTION:Get a free cup of coffee and meet with Principal Matos during our PA sponsored Principal Coffee Hour. \nEvery 1st Thursday of the month\, drop by the PS153 Book Nook from 7:30-8:30am for your coffee and a group discussion between Principal Matos and PS153 parents. \nNote: This is an informal event where parents can casually arrive late or leave early and have a chance to ask questions\, comment on issues\, or have a friendly conversion with everyone over a cup of coffee.
URL:https://ps153pa.org/event/principal-coffee-hour-2/
LOCATION:PS 153 Adam Clayton Powell School\, 1750 Amsterdam Ave\, New York\, NY\, 1031\, United States
CATEGORIES:PA Event
END:VEVENT
BEGIN:VEVENT
DTSTART;TZID=America/New_York:20240127T090000
DTEND;TZID=America/New_York:20240127T103000
DTSTAMP:20260425T195708
CREATED:20240106T140333Z
LAST-MODIFIED:20240106T140333Z
UID:1731-1706346000-1706351400@ps153pa.org
SUMMARY:ESL Classes for Families
DESCRIPTION:Title 1 funded free ESL classes for families to learn and practice English language skills. \nOpen to all adult families of PS153. Childcare will be provided at the school during the class. \nClass Sign-up (English) \nClass Sign-up (Spanish) \nSee all Title 1 programs for ESL and Computer classes \n 
URL:https://ps153pa.org/event/esl-classes-for-families/
LOCATION:PS 153 Adam Clayton Powell School\, 1750 Amsterdam Ave\, New York\, NY\, 1031\, United States
CATEGORIES:PA Event
END:VEVENT
BEGIN:VEVENT
DTSTART;TZID=America/New_York:20240127T103000
DTEND;TZID=America/New_York:20240127T120000
DTSTAMP:20260425T195708
CREATED:20240106T142235Z
LAST-MODIFIED:20240106T142235Z
UID:1753-1706351400-1706356800@ps153pa.org
SUMMARY:Computer Classes for Families
DESCRIPTION:Title 1 funded free computer classes for families to learn and practice basic computer usage. \nOpen to all adult families of PS153. Childcare will be provided at the school during the class. \nClass Sign-up (English) \nClass Sign-up (Spanish) \nSee all Title 1 programs for ESL and Computer classes. \n 
URL:https://ps153pa.org/event/computer-classes-for-families-5/
LOCATION:PS 153 Adam Clayton Powell School\, 1750 Amsterdam Ave\, New York\, NY\, 1031\, United States
CATEGORIES:PA Event
END:VEVENT
END:VCALENDAR