BEGIN:VCALENDAR
VERSION:2.0
PRODID:-//PS153 Parents Association - ECPv6.15.17.1//NONSGML v1.0//EN
CALSCALE:GREGORIAN
METHOD:PUBLISH
X-ORIGINAL-URL:https://ps153pa.org
X-WR-CALDESC:Events for PS153 Parents Association
REFRESH-INTERVAL;VALUE=DURATION:PT1H
X-Robots-Tag:noindex
X-PUBLISHED-TTL:PT1H
BEGIN:VTIMEZONE
TZID:America/New_York
BEGIN:DAYLIGHT
TZOFFSETFROM:-0500
TZOFFSETTO:-0400
TZNAME:EDT
DTSTART:20240310T070000
END:DAYLIGHT
BEGIN:STANDARD
TZOFFSETFROM:-0400
TZOFFSETTO:-0500
TZNAME:EST
DTSTART:20241103T060000
END:STANDARD
BEGIN:DAYLIGHT
TZOFFSETFROM:-0500
TZOFFSETTO:-0400
TZNAME:EDT
DTSTART:20250309T070000
END:DAYLIGHT
BEGIN:STANDARD
TZOFFSETFROM:-0400
TZOFFSETTO:-0500
TZNAME:EST
DTSTART:20251102T060000
END:STANDARD
BEGIN:DAYLIGHT
TZOFFSETFROM:-0500
TZOFFSETTO:-0400
TZNAME:EDT
DTSTART:20260308T070000
END:DAYLIGHT
BEGIN:STANDARD
TZOFFSETFROM:-0400
TZOFFSETTO:-0500
TZNAME:EST
DTSTART:20261101T060000
END:STANDARD
END:VTIMEZONE
BEGIN:VEVENT
DTSTART;TZID=America/New_York:20251018T100000
DTEND;TZID=America/New_York:20251018T150000
DTSTAMP:20260419T194744
CREATED:20251001T012156Z
LAST-MODIFIED:20251001T012156Z
UID:3342-1760781600-1760799600@ps153pa.org
SUMMARY:Dyckman Farmhouse Annual Fall Festival
DESCRIPTION:The Annual Fall Festival returns to Dyckman Farmhouse Museum with exciting new activities plus the all-time favorites you’ve been waiting for all year: \n\nUnleash your inner artist with fall-inspired stop motion animations and mind-bending optical illusions! Yes\, you read that right! Come create your own thaumatropes and spin your drawings to life!\nSip on apple cider fresh from the press and crafted right before your eyes!\nDance to LIVE MUSIC performed by your favorite local musicians!\nEnjoy some neighborly competition! Put your steady hand to the test with giant Jenga and see how long your tower can last! We’ll have plenty of lawn games out for anyone up for a challenge…\n\nOur historic Hessian Hut as well as the iconic Dyckman Farmhouse Museum will be open to all attendees FREE OF CHARGE. Come explore our latest contemporary exhibition by Cheyney McKnight\, community altar curated by Regina Evans\, and permanent collection as long as you’d like! Refreshments\, snacks\, and freshly popped popcorn will be available for purchase all day long. \nAnd that’s just the tip of the haystack! There’s so much more to explore and enjoy at our annual Fall Festival. So\, start rounding up your friends\, family\, nieces\, and nephews for a fall-tastic day at Dyckman Farmhouse Museum!
URL:https://ps153pa.org/event/dyckman-farmhouse-annual-fall-festival/
LOCATION:Dyckman Farmhouse Museum\, 4881 Broadway\, New York\, NY\, 10034\, United States
CATEGORIES:Community Partner
ATTACH;FMTTYPE=image/jpeg:https://ps153pa.org/wp-content/uploads/2025/09/2025-Fall-Festival-.jpg
ORGANIZER;CN="Dyckman Farmhouse Museum":MAILTO:info@dyckmanfarmhouse.org
END:VEVENT
END:VCALENDAR