BEGIN:VCALENDAR
VERSION:2.0
PRODID:-//PS153 Parents Association - ECPv6.15.17.1//NONSGML v1.0//EN
CALSCALE:GREGORIAN
METHOD:PUBLISH
X-ORIGINAL-URL:https://ps153pa.org
X-WR-CALDESC:Events for PS153 Parents Association
REFRESH-INTERVAL;VALUE=DURATION:PT1H
X-Robots-Tag:noindex
X-PUBLISHED-TTL:PT1H
BEGIN:VTIMEZONE
TZID:America/New_York
BEGIN:DAYLIGHT
TZOFFSETFROM:-0500
TZOFFSETTO:-0400
TZNAME:EDT
DTSTART:20240310T070000
END:DAYLIGHT
BEGIN:STANDARD
TZOFFSETFROM:-0400
TZOFFSETTO:-0500
TZNAME:EST
DTSTART:20241103T060000
END:STANDARD
BEGIN:DAYLIGHT
TZOFFSETFROM:-0500
TZOFFSETTO:-0400
TZNAME:EDT
DTSTART:20250309T070000
END:DAYLIGHT
BEGIN:STANDARD
TZOFFSETFROM:-0400
TZOFFSETTO:-0500
TZNAME:EST
DTSTART:20251102T060000
END:STANDARD
BEGIN:DAYLIGHT
TZOFFSETFROM:-0500
TZOFFSETTO:-0400
TZNAME:EDT
DTSTART:20260308T070000
END:DAYLIGHT
BEGIN:STANDARD
TZOFFSETFROM:-0400
TZOFFSETTO:-0500
TZNAME:EST
DTSTART:20261101T060000
END:STANDARD
END:VTIMEZONE
BEGIN:VEVENT
DTSTART;TZID=America/New_York:20250131T083000
DTEND;TZID=America/New_York:20250131T093000
DTSTAMP:20260421T014240
CREATED:20250130T024215Z
LAST-MODIFIED:20250130T024215Z
UID:3061-1738312200-1738315800@ps153pa.org
SUMMARY:Free Uniforms at Curl Up With A Good Book
DESCRIPTION:On Friday\, January 31st\, the PS153 PA will be distributing free donated cleaned uniforms during Curl Up With a Good Book Day. \nCome check for your size! \nMeet the PA at our table in the school entrance to collect the uniforms starting from 8:30am. \nWhile supplies last!\nProvided by the PS153 Parents Association (PA)
URL:https://ps153pa.org/event/free-uniforms-at-curl-up-with-a-good-book/
LOCATION:PS 153 Adam Clayton Powell School\, 1750 Amsterdam Ave\, New York\, NY\, 1031\, United States
ATTACH;FMTTYPE=image/jpeg:https://ps153pa.org/wp-content/uploads/2025/01/1738204644961-577d59d0-4368-4518-99ba-cec1525f6e40_1.jpg
END:VEVENT
END:VCALENDAR