BEGIN:VCALENDAR
VERSION:2.0
PRODID:-//PS153 Parents Association - ECPv6.15.17.1//NONSGML v1.0//EN
CALSCALE:GREGORIAN
METHOD:PUBLISH
X-WR-CALNAME:PS153 Parents Association
X-ORIGINAL-URL:https://ps153pa.org
X-WR-CALDESC:Events for PS153 Parents Association
REFRESH-INTERVAL;VALUE=DURATION:PT1H
X-Robots-Tag:noindex
X-PUBLISHED-TTL:PT1H
BEGIN:VTIMEZONE
TZID:America/New_York
BEGIN:DAYLIGHT
TZOFFSETFROM:-0500
TZOFFSETTO:-0400
TZNAME:EDT
DTSTART:20230312T070000
END:DAYLIGHT
BEGIN:STANDARD
TZOFFSETFROM:-0400
TZOFFSETTO:-0500
TZNAME:EST
DTSTART:20231105T060000
END:STANDARD
BEGIN:DAYLIGHT
TZOFFSETFROM:-0500
TZOFFSETTO:-0400
TZNAME:EDT
DTSTART:20240310T070000
END:DAYLIGHT
BEGIN:STANDARD
TZOFFSETFROM:-0400
TZOFFSETTO:-0500
TZNAME:EST
DTSTART:20241103T060000
END:STANDARD
BEGIN:DAYLIGHT
TZOFFSETFROM:-0500
TZOFFSETTO:-0400
TZNAME:EDT
DTSTART:20250309T070000
END:DAYLIGHT
BEGIN:STANDARD
TZOFFSETFROM:-0400
TZOFFSETTO:-0500
TZNAME:EST
DTSTART:20251102T060000
END:STANDARD
END:VTIMEZONE
BEGIN:VEVENT
DTSTART;VALUE=DATE:20241105
DTEND;VALUE=DATE:20241106
DTSTAMP:20260421T041511
CREATED:20241021T014343Z
LAST-MODIFIED:20241021T014343Z
UID:2892-1730764800-1730851199@ps153pa.org
SUMMARY:Election Day\, students do not attend school
DESCRIPTION:
URL:https://ps153pa.org/event/election-day-students-do-not-attend-school/
LOCATION:PS 153 Adam Clayton Powell School\, 1750 Amsterdam Ave\, New York\, NY\, 1031\, United States
CATEGORIES:School Calendar
END:VEVENT
BEGIN:VEVENT
DTSTART;TZID=America/New_York:20241105T080000
DTEND;TZID=America/New_York:20241105T190000
DTSTAMP:20260421T041511
CREATED:20241024T004631Z
LAST-MODIFIED:20241024T004631Z
UID:2961-1730793600-1730833200@ps153pa.org
SUMMARY:Election Day Bake Sale
DESCRIPTION:Shop the PA Bake Sale in front of PS153 on Tuesday\, November 5th Election Day. \nOur parent volunteers will be selling baked goods to help fund our programing for our families and students. \nDonations will be accepted\, and a photo booth will be set-up for fun voter poses!
URL:https://ps153pa.org/event/election-day-bake-sale/
LOCATION:PS 153 Adam Clayton Powell School\, 1750 Amsterdam Ave\, New York\, NY\, 1031\, United States
CATEGORIES:PA Event
ATTACH;FMTTYPE=image/jpeg:https://ps153pa.org/wp-content/uploads/2024/10/election-day-bake-sale.jpg
END:VEVENT
END:VCALENDAR